BEGIN:VCALENDAR
VERSION:2.0
PRODID:-//Passionate Bulkboek - ECPv6.15.20//NONSGML v1.0//EN
CALSCALE:GREGORIAN
METHOD:PUBLISH
X-WR-CALNAME:Passionate Bulkboek
X-ORIGINAL-URL:https://passionatebulkboek.nl
X-WR-CALDESC:Evenementen voor Passionate Bulkboek
REFRESH-INTERVAL;VALUE=DURATION:PT1H
X-Robots-Tag:noindex
X-PUBLISHED-TTL:PT1H
BEGIN:VTIMEZONE
TZID:Europe/Amsterdam
BEGIN:DAYLIGHT
TZOFFSETFROM:+0100
TZOFFSETTO:+0200
TZNAME:CEST
DTSTART:20240331T010000
END:DAYLIGHT
BEGIN:STANDARD
TZOFFSETFROM:+0200
TZOFFSETTO:+0100
TZNAME:CET
DTSTART:20241027T010000
END:STANDARD
BEGIN:DAYLIGHT
TZOFFSETFROM:+0100
TZOFFSETTO:+0200
TZNAME:CEST
DTSTART:20250330T010000
END:DAYLIGHT
BEGIN:STANDARD
TZOFFSETFROM:+0200
TZOFFSETTO:+0100
TZNAME:CET
DTSTART:20251026T010000
END:STANDARD
BEGIN:DAYLIGHT
TZOFFSETFROM:+0100
TZOFFSETTO:+0200
TZNAME:CEST
DTSTART:20260329T010000
END:DAYLIGHT
BEGIN:STANDARD
TZOFFSETFROM:+0200
TZOFFSETTO:+0100
TZNAME:CET
DTSTART:20261025T010000
END:STANDARD
END:VTIMEZONE
BEGIN:VEVENT
DTSTART;TZID=Europe/Amsterdam:20251118T143000
DTEND;TZID=Europe/Amsterdam:20251118T170000
DTSTAMP:20260419T174655
CREATED:20250909T144345Z
LAST-MODIFIED:20251209T152023Z
UID:12138-1763476200-1763485200@passionatebulkboek.nl
SUMMARY:Training - Leesplezier in het NT2-onderwijs (vo)
DESCRIPTION:Verhalen kunnen houvast bieden\, troost geven en een uitlaatklep zijn — juist voor jongeren die een nieuw leven opbouwen in een ander land. Ook als zij het Nederlands nog niet volledig beheersen\, is het belangrijk dat ze kunnen genieten van lezen. \nIn onze trainingen voor docenten van NT2-leerlingen\, in zowel het vo als het mbo\, ontdekt u hoe u met verhalen kunt aansluiten bij de leefwereld van deze leerlingen. We introduceren diverse vormen van lezen en delen praktische werkvormen waarmee u tegelijkertijd werkt aan sociaal-emotionele ontwikkeling\, woordenschat en spreekvaardigheid. U krijgt volop inspiratie en de kans om ervaringen uit te wisselen met collega’s. \nNa afloop gaat u naar huis met concrete handvatten\, lesideeën en boekentips die u direct kunt inzetten om lezen leuker én betekenisvoller te maken voor uw leerlingen.
URL:https://passionatebulkboek.nl/event/training-leesplezier-in-het-nt2-onderwijs-vo/
CATEGORIES:NT2,Training
ATTACH;FMTTYPE=image/png:https://passionatebulkboek.nl/wp-content/uploads/2025/12/Training-Leesplezier-in-NT2.png
END:VEVENT
END:VCALENDAR